Workbook
Name Base: Base!$A$1:$BI$72
Name Copen: #REF!
Name LimTwo: #REF!
Name Optimal: #REF!
Name Stern: #REF!
Name SternCalib: #REF!

Sheet Version notes and copyright
A1: ADVANCED VERSION
A2: Please read the file "ReadMeExcel-November 2023" for details on them modeling.
A4: File date: November 13, 2023
A5: This is the Excel version of the DICE-2023 model. Authoritative is the GAMS version.
A6: It is still in trial stage and has not been carefully reviewed by users.
A7: It corresponds to the GAMS version "DICE2023-b-4-3-10.gms"
A9: Excel is a secondary model
A10: Note that the authoritative version is the GAMS version.
A11: The Excel version tracks well except for "alpha" which is only approximated in Excel because of computational complexities of the GAMS solution.
A12: This is the 2020+ version. Other versions contain the full file back to 1765. These are not publicly available.
A14: Scenarios
A15: 1. Base is a current policy or "reference" run.
... A40: We welcome comments but will not always respond quickly.

Sheet Interpretation
A1: Each sheet contains the following parts:
A3: Top part is Excel DICE model. This goes through line 159.
A4: Lines 162 - 231 are GAMS output for that scenario. These come from the GAMS output in "GAMS" sheet.
A5: Lines 233 - 285 are from the Excel model. They refer up the sheet to the code and are simply rearraged to make comparison later easy.
A7: Lines 287 - 235 are the error in the Excel model relative to GAMS. These are (Excel/GAMS -1)%
A8: Lines 244 - 396 are averages of different period. These have not be checked.
A10: The colors are descriptive but not always accurate.

Sheet Parameters
A1: Parameters as of October 26, 2016
B2: Parameter value | D2: Notes
A3: Major change | D3: Corrected
A4: KEY PARAMETERS
A5: Rate of social time preference (% py) | B5: 0.026341 | D5: With precautionary
A6: Elasticity of MU of consumption (set) | B6: 0.95 | D6: With precautionary
A7: Damage coefficient on temperature | B7: 0 | D7: Revised in 2023, see lab notes.
A8: Damage coefficient on temperature squared | B8: 0.003467 | D8: Revised in 2023, see lab notes.
A9: Exponent on damages | B9: 2 | D9: Damage coefficients are calibrated to impact analysis and should be adjusted together
A10: Backstop price, 2050 (2019$/tCO2) | B10: 515 | D10: Revised in 2023, see lab notes.
A11: Exponent of control cost function | B11: 2.6 | D11: Revised in 2023, see lab notes.
A12: Maximum carbon resources (GtC) | B12: 6000 | D12: Unchanged, but not used in current model.
A13: Trend sigma growth (per year) | B13: -0.015 | D13: Revised in 2023, see lab notes.
A14: Time step | B14: 5 | D14: 5 years
A15: OUTPUT and PRODUCTION
A16: Capital share | B16: 0.3 | D16: assumed
A17: Rate of depreciation (percent per year) | B17: 0.1 | D17: assumed
A18: Initial output (2010 US International $, trillions)
A19: Year 2020 (centered trilliions 2029 PPP $) | B19: 135.7 | D19: Revised in 2023, see lab notes.
A20: Population
A21: Initial, 2020 (millions) | B21: 7752.9 | D21: Revised in 2023, see lab notes.
A22: 2050 parameter | B22: 0.145 | D22: Revised in 2023, see lab notes.
A23: Asymptotic | B23: 10825 | D23: Revised in 2023, see lab notes.
A24: Total factor productivity
A25: Initial K | B25: 295 | D25: Recalibrated 4-3-7
A26: Initial level of total factor productivity | B26: 5.84 | D26: Revised in 2023, see lab notes.
A27: Initial growth rate for TFP per 5 years | B27: 0.066 | D27: Revised Oct 2023, see appendix
A28: Decline rate of TFP per 5 years | B28: 0.0015 | D28: Revised Oct 2023, see appendix
A29: ABATEMENT
A30: Upper limit control rate | D30: In program.
A31: EMISSIONS
A32: Initial sigma (tCO2 per $1000 GDP US $, 2019 prices) 2020 | D32: 0.29135477 | E32: DICE GAMS
A33: Initial carbon emissions from land use change (GTC)2 per year), 2020 | D33: In program. | E33: IPCC AR6
A34: Decline rate of land emissions per five years | D34: 0.1 | E34: FAO
A35: delgsig | B35: 0.96
A36: CONCENTRATIONS | B36: ppm | D36: GtC
A37: Initial atmospheric concentration of CO2 (GTC, end 2010) | C37: In program
A40: NON-CO2 GHG MODULE
A42: Carbonemissionsfromland2015(GtCO2peryear) | B42: eland0 | C42: 5.9
A43: Declinerateoflandemission | B43: deland | C43: 0.1
...

Sheet GAMS
A2: Results of DICE2023-b-4-3-10.csv: October 16, 2023
A3: SCENARIO: OPTIMAL
A4: Results of DICE2023-opt-b-4-3-10
A5: OPTIMAL
A6: This is optimal if ifopt = 1 and baseline if ifopt = 0
A7: ifopt = | B7: 1
A9: Period | B9: 1 | C9: 2 | D9: 3 | E9: 4 | F9: 5 | G9: 6 | H9: 7 | I9: 8 | J9: 9 | K9: 10 | L9: 11 | M9: 12 | N9: 13 | O9: 14 | P9: 15 | Q9: 16 | R9: 17 | S9: 18 | T9: 19 | U9: 20 | V9: 21 | W9: 22 | X9: 23 | Y9: 24 | Z9: 25 | AA9: 26 | AB9: 27 | AC9: 28 | AD9: 29 | AE9: 30 | AF9: 31 | AG9: 32 | AH9: 33 | AI9: 34 | AJ9: 35 | AK9: 36 | AL9: 37 | AM9: 38 | AN9: 39 | AO9: 40 | AP9: 41 | AQ9: 42 | AR9: 43 | AS9: 44 | AT9: 45 | AU9: 46 | AV9: 47 | AW9: 48 | AX9: 49 | AY9: 50 | AZ9: 51 | BA9: 52 | BB9: 53 | BC9: 54 | BD9: 55 | BE9: 56 | BF9: 57 | BG9: 58 | BH9: 59 | BI9: 60 | BJ9: 61 | BK9: 62 | BL9: 63 | BM9: 64 | BN9: 65 | BO9: 66 | BP9: 67 | BQ9: 68 | BR9: 69 | BS9: 70 | BT9: 71 | BU9: 72 | BV9: 73 | BW9: 74 | BX9: 75 | BY9: 76 | BZ9: 77 | CA9: 78 | CB9: 79 | CC9: 80 | CD9: 81
A10: Year | B10: 2020 | C10: 2025 | D10: 2030 | E10: 2035 | F10: 2040 | G10: 2045 | H10: 2050 | I10: 2055 | J10: 2060 | K10: 2065 | L10: 2070 | M10: 2075 | N10: 2080 | O10: 2085 | P10: 2090 | Q10: 2095 | R10: 2100 | S10: 2105 | T10: 2110 | U10: 2115 | V10: 2120 | W10: 2125 | X10: 2130 | Y10: 2135 | Z10: 2140 | AA10: 2145 | AB10: 2150 | AC10: 2155 | AD10: 2160 | AE10: 2165 | AF10: 2170 | AG10: 2175 | AH10: 2180 | AI10: 2185 | AJ10: 2190 | AK10: 2195 | AL10: 2200 | AM10: 2205 | AN10: 2210 | AO10: 2215 | AP10: 2220 | AQ10: 2225 | AR10: 2230 | AS10: 2235 | AT10: 2240 | AU10: 2245 | AV10: 2250 | AW10: 2255 | AX10: 2260 | AY10: 2265 | AZ10: 2270 | BA10: 2275 | BB10: 2280 | BC10: 2285 | BD10: 2290 | BE10: 2295 | BF10: 2300 | BG10: 2305 | BH10: 2310 | BI10: 2315 | BJ10: 2320 | BK10: 2325 | BL10: 2330 | BM10: 2335 | BN10: 2340 | BO10: 2345 | BP10: 2350 | BQ10: 2355 | BR10: 2360 | BS10: 2365 | BT10: 2370 | BU10: 2375 | BV10: 2380 | BW10: 2385 | BX10: 2390 | BY10: 2395 | BZ10: 2400 | CA10: 2405 | CB10: 2410 | CC10: 2415 | CD10: 2420
A11: Objective function (2019$) | B11: 6659.4769
A12: Industrial CO2 GtCO2/yr | B12: 37.3362 | C12: 38.131323 | D12: 34.515239 | E12: 35.13528 | F12: 35.540702 | G12: 35.561383 | H12: 35.14935 | I12: 34.993031 | J12: 34.528333 | K12: 33.729637 | L12: 32.5674 | M12: 31.007783 | N12: 29.012335 | O12: 26.537653 | P12: 23.534914 | Q12: 19.949062 | R12: 15.717116 | S12: 11.473519 | T12: 6.5724669 | U12: 0.93053808 | V12: -5.5567681 | W12: -12.886398 | X12: -13.612484 | Y12: -14.395617 | Z12: -15.235115 | AA12: -16.132174 | AB12: -17.089186 | AC12: -18.109304 | AD12: -19.194474 | AE12: -20.32997 | AF12: -21.517474 | AG12: -22.758634 | AH12: -24.055018 | AI12: -25.408006 | AJ12: -26.818599 | AK12: -28.28703 | AL12: -29.811997 | AM12: -15.69457 | AN12: -16.53017 | AO12: -17.385962 | AP12: -18.265444 | AQ12: -19.171321 | AR12: -20.105698 | AS12: -21.070238 | AT12: -22.066284 | AU12: -23.094948 | AV12: -24.157162 | AW12: -25.253726 | AX12: -26.385334 | AY12: -27.552594 | AZ12: -28.75604 | BA12: -29.99614 | BB12: -31.273304 | BC12: -32.587885 | BD12: -33.940179 | BE12: -35.33043 | BF12: -36.758822 | BG12: 0 | BH12: 0 | BI12: 0 | BJ12: 0 | BK12: 0 | BL12: 0 | BM12: 0 | BN12: 0 | BO12: 0 | BP12: 0 | BQ12: 0 | BR12: 0 | BS12: 0 | BT12: 0 | BU12: 0 | BV12: 0 | BW12: 0 | BX12: 0 | BY12: 0 | BZ12: 0 | CA12: 0 | CB12: 0 | CC12: 0 | CD12: 0
A13: Atmospheric concentration C (ppm) | B13: 416.20319 | C13: 429.91481 | D13: 441.20381 | E13: 452.89512 | F13: 464.68532 | G13: 476.38057 | H13: 487.79492 | I13: 499.1359 | J13: 510.24229 | K13: 520.96407 | L13: 531.14054 | M13: 540.59401 | N13: 549.12654 | O13: 556.51745 | P13: 562.52093 | Q13: 566.86376 | R13: 569.24253 | S13: 569.71726 | T13: 567.95571 | U13: 563.61015 | V13: 556.29912 | W13: 545.67482 | X13: 535.78635 | Y13: 526.2447 | Z13: 516.83214 | AA13: 507.42119 | AB13: 497.93247 | AC13: 488.31233 | AD13: 478.52209 | AE13: 468.54164 | AF13: 458.35524 | AG13: 447.95062 | AH13: 437.31862 | AI13: 426.45326 | AJ13: 415.35207 | AK13: 404.01678 | AL13: 392.45443 | AM13: 389.57161 | AN13: 385.20275 | AO13: 380.11595 | AP13: 374.59864 | AQ13: 368.75817 | AR13: 362.63727 | AS13: 356.25659 | AT13: 349.62992 | AU13: 342.76952 | AV13: 335.68807 | AW13: 328.39941 | AX13: 320.91896 | AY13: 313.26389 | AZ13: 305.4533 | BA13: 297.50822 | BB13: 289.45151 | BC13: 281.30753 | BD13: 273.10167 | BE13: 264.85967 | BF13: 256.60697 | BG13: 266.62006 | BH13: 272.22594 | BI13: 276.13388 | BJ13: 278.96307 | BK13: 281.08793 | BL13: 282.74908 | BM13: 284.10148 | BN13: 285.24503 | BO13: 286.24423 | BP13: 287.14079 | BQ13: 287.9618 | BR13: 288.72494 | BS13: 289.44181 | BT13: 290.12018 | BU13: 290.76528 | BV13: 291.38075 | BW13: 291.96923 | BX13: 292.53265 | BY13: 293.07255 | BZ13: 293.59015 | CA13: 294.08652 | CB13: 294.56259 | CC13: 295.01919 | CD13: 295.4571
A14: Atmospheric concentrations GtC | B14: 886.5128 | C14: 915.71855 | D14: 939.76411 | E14: 964.6666 | F14: 989.77973 | G14: 1014.6906 | H14: 1039.0032 | I14: 1063.1595 | J14: 1086.8161 | K14: 1109.6535 | L14: 1131.3294 | M14: 1151.4652 | N14: 1169.6395 | O14: 1185.3822 | P14: 1198.1696 | Q14: 1207.4198 | R14: 1212.4866 | S14: 1213.4978 | T14: 1209.7457 | U14: 1200.4896 | V14: 1184.9171 | W14: 1162.2874 | X14: 1141.2249 | Y14: 1120.9012 | Z14: 1100.8525 | AA14: 1080.8071 | AB14: 1060.5962 | AC14: 1040.1053 | AD14: 1019.2521 | AE14: 997.99369 | AF14: 976.29665 | AG14: 954.13482 | AH14: 931.48867 | AI14: 908.34545 | AJ14: 884.69992 | AK14: 860.55574 | AL14: 835.92794 | AM14: 829.78753 | AN14: 820.48185 | AO14: 809.64697 | AP14: 797.89511 | AQ14: 785.4549 | AR14: 772.41738 | AS14: 758.82654 | AT14: 744.71174 | AU14: 730.09908 | AV14: 715.01558 | AW14: 699.49075 | AX14: 683.55739 | AY14: 667.25209 | AZ14: 650.61554 | BA14: 633.69252 | BB14: 616.53171 | BC14: 599.18504 | BD14: 581.70656 | BE14: 564.15109 | BF14: 546.57285 | BG14: 567.90073 | BH14: 579.84125 | BI14: 588.16516 | BJ14: 594.19133 | BK14: 598.71729 | BL14: 602.25554 | BM14: 605.13616 | BN14: 607.57192 | BO14: 609.7002 | BP14: 611.60988 | BQ14: 613.35864 | BR14: 614.98411 | BS14: 616.51107 | BT14: 617.95598 | BU14: 619.33004 | BV14: 620.64101 | BW14: 621.89446 | BX14: 623.09455 | BY14: 624.24452 | BZ14: 625.34702 | CA14: 626.40429 | CB14: 627.41831 | CC14: 628.39087 | CD14: 629.32362
A15: Atmospheric temperaturer (deg c above preind) | B15: 1.24715 | C15: 1.4248441 | D15: 1.5463166 | E15: 1.6481448 | F15: 1.7435344 | G15: 1.8355836 | H15: 1.9244085 | I15: 2.0107163 | J15: 2.094475 | K15: 2.1751117 | L15: 2.2518913 | M15: 2.3240014 | N15: 2.3905627 | O15: 2.4506173 | P15: 2.5031104 | Q15: 2.5468639 | R15: 2.5805427 | S15: 2.5975234 | T15: 2.6011335 | U15: 2.5911288 | V15: 2.5659428 | W15: 2.5234844 | X15: 2.4760724 | Y15: 2.4287915 | Z15: 2.3821993 | AA15: 2.3358171 | AB15: 2.2890249 | AC15: 2.2412524 | AD15: 2.1919986 | AE15: 2.1408531 | AF15: 2.0874497 | AG15: 2.031448 | AH15: 1.9725235 | AI15: 1.9103641 | AJ15: 1.8446684 | AK15: 1.7751467 | AL15: 1.7015266 | AM15: 1.6651942 | AN15: 1.6350796 | AO15: 1.602724 | AP15: 1.5668625 | AQ15: 1.527536 | AR15: 1.4848732 | AS15: 1.4389228 | AT15: 1.3896722 | AU15: 1.337078 | AV15: 1.2810844 | AW15: 1.2216326 | AX15: 1.1586669 | AY15: 1.0921384 | AZ15: 1.0220085 | BA15: 0.94825205 | BB15: 0.87085979 | BC15: 0.78983948 | BD15: 0.70521575 | BE15: 0.61702797 | BF15: 0.52532762 | BG15: 0.5580256 | BH15: 0.5991965 | BI15: 0.63145576 | BJ15: 0.65406419 | BK15: 0.66934425 | BL15: 0.67956856 | BM15: 0.68641346 | BN15: 0.69101661 | BO15: 0.69412764 | BP15: 0.69623593 | BQ15: 0.69766074 | BR15: 0.69861116 | BS15: 0.69922509 | BT15: 0.69959439 | BU15: 0.69978103 | BV15: 0.69982749 | BW15: 0.69976349 | BX15: 0.69961027 | BY15: 0.69938346 | BZ15: 0.6990948 | CA15: 0.69875343 | CB15: 0.6983666 | CC15: 0.69794021 | CD15: 0.69747921
A16: Total forcings w/m2 | B16: 2.7918385 | C16: 3.0139138 | D16: 3.1948396 | E16: 3.3638747 | F16: 3.5290935 | G16: 3.6881724 | H16: 3.8387474 | I16: 3.9830906 | J16: 4.1205681 | K16: 4.2495334 | L16: 4.3683486 | M16: 4.4753032 | N16: 4.5685686 | O16: 4.6461546 | P16: 4.7058618 | Q16: 4.745221 | R16: 4.7614122 | S16: 4.735166 | T16: 4.6836487 | U16: 4.6033702 | V16: 4.4900142 | W16: 4.3388871 | X16: 4.1911529 | Y16: 4.0513476 | Z16: 3.9163657 | AA16: 3.7840597 | AB16: 3.6528253 | AC16: 3.5213706 | AD16: 3.3885969 | AE16: 3.2536422 | AF16: 3.115715 | AG16: 2.9740745 | AH16: 2.8280193 | AI16: 2.6768807 | AJ16: 2.5200224 | AK16: 2.3568442 | AL16: 2.1867969 | AM16: 2.1403289 | AN16: 2.0797693 | AO16: 2.0073114 | AP16: 1.9269209 | AQ16: 1.8399849 | AR16: 1.7469436 | AS16: 1.6478954 | AT16: 1.5428179 | AU16: 1.4316468 | AV16: 1.3143066 | AW16: 1.1907245 | AX16: 1.060839 | AY16: 0.92460727 | AZ16: 0.78201214 | BA16: 0.63306805 | BB16: 0.47782542 | BC16: 0.316372 | BD16: 0.14883025 | BE16: -0.024649274 | BF16: -0.20389485 | BG16: 0.013336201 | BH16: 0.13888257 | BI16: 0.22621505 | BJ16: 0.28962301 | BK16: 0.33747845 | BL16: 0.37504735 | BM16: 0.40568388 | BN16: 0.43154418 | BO16: 0.45402599 | BP16: 0.47404341 | BQ16: 0.49220042 | BR16: 0.50890122 | BS16: 0.52442079 | BT16: 0.53895009 | BU16: 0.55262508 | BV16: 0.56554545 | BW16: 0.57778667 | BX16: 0.58940786 | BY16: 0.60045686 | BZ16: 0.61097356 | CA16: 0.62099211 | CB16: 0.6305424 | CC16: 0.63965105 | CD16: 0.64834212
A17: Forcings, exogenous w/m2 | B17: -0.054 | C17: -0.0340625 | D17: -0.014125 | E17: 0.0058125 | F17: 0.02575 | G17: 0.0456875 | H17: 0.065625 | I17: 0.0855625 | J17: 0.1055 | K17: 0.1254375 | L17: 0.145375 | M17: 0.1653125 | N17: 0.18525 | O17: 0.2051875 | P17: 0.225125 | Q17: 0.2450625 | R17: 0.265 | S17: 0.265 | T17: 0.265 | U17: 0.265 | V17: 0.265 | W17: 0.265 | X17: 0.265 | Y17: 0.265 | Z17: 0.265 | AA17: 0.265 | AB17: 0.265 | AC17: 0.265 | AD17: 0.265 | AE17: 0.265 | AF17: 0.265 | AG17: 0.265 | AH17: 0.265 | AI17: 0.265 | AJ17: 0.265 | AK17: 0.265 | AL17: 0.265 | AM17: 0.265 | AN17: 0.265 | AO17: 0.265 | AP17: 0.265 | AQ17: 0.265 | AR17: 0.265 | AS17: 0.265 | AT17: 0.265 | AU17: 0.265 | AV17: 0.265 | AW17: 0.265 | AX17: 0.265 | AY17: 0.265 | AZ17: 0.265 | BA17: 0.265 | BB17: 0.265 | BC17: 0.265 | BD17: 0.265 | BE17: 0.265 | BF17: 0.265 | BG17: 0.265 | BH17: 0.265 | BI17: 0.265 | BJ17: 0.265 | BK17: 0.265 | BL17: 0.265 | BM17: 0.265 | BN17: 0.265 | BO17: 0.265 | BP17: 0.265 | BQ17: 0.265 | BR17: 0.265 | BS17: 0.265 | BT17: 0.265 | BU17: 0.265 | BV17: 0.265 | BW17: 0.265 | BX17: 0.265 | BY17: 0.265 | BZ17: 0.265 | CA17: 0.265 | CB17: 0.265 | CC17: 0.265 | CD17: 0.265
A18: CO2 forcings w/m2 | B18: 2.3278385 | C18: 2.5116162 | D18: 2.6585763 | E18: 2.8068621 | F18: 2.952575 | G18: 3.0935067 | H18: 3.2277562 | I18: 3.3580669 | J18: 3.4828436 | K18: 3.6007491 | L18: 3.7104345 | M18: 3.8104604 | N18: 3.8992514 | O18: 3.9750543 | P18: 4.0358901 | Q18: 4.0794945 | R18: 4.1032372 | S18: 4.1079637 | T18: 4.0904057 | U18: 4.0468581 | V18: 3.9728295 | W18: 3.8634995 | X18: 3.7598117 | Y18: 3.6579303 | Z18: 3.555601 | AA18: 3.4514087 | AB18: 3.3443803 | AC18: 3.233767 | AD18: 3.1189376 | AE18: 2.9994331 | AF18: 2.8748085 | AG18: 2.7446215 | AH18: 2.6084277 | AI18: 2.4657799 | AJ18: 2.3162321 | AK18: 2.1593483 | AL18: 1.9947204 | AM18: 1.9529185 | AN18: 1.8889752 | AO18: 1.8136039 | AP18: 1.730705 | AQ18: 1.6416093 | AR18: 1.5467084 | AS18: 1.4460592 | AT18: 1.3396031 | AU18: 1.2272451 | AV18: 1.108883 | AW18: 0.98442108 | AX18: 0.85377799 | AY18: 0.71689399 | AZ18: 0.57373726 | BA18: 0.42430963 | BB18: 0.26865067 | BC18: 0.10683879 | BD18: -0.061011596 | BE18: -0.23475685 | BF18: -0.41423122 | BG18: -0.19719717 | BH18: -0.079221657 | BI18: 0.0015923116 | BJ18: 0.059387828 | BK18: 0.10241095 | BL18: 0.13581924 | BM18: 0.16287347 | BN18: 0.18564942 | BO18: 0.20547561 | BP18: 0.22320653 | BQ18: 0.23939486 | BR18: 0.25440063 | BS18: 0.26846079 | BT18: 0.28173353 | BU18: 0.29432662 | BV18: 0.30631547 | BW18: 0.31775466 | BX18: 0.3286853 | BY18: 0.33913974 | BZ18: 0.34914451 | CA18: 0.3587223 | CB18: 0.36789309 | CC18: 0.376675 | CD18: 0.38508474
A19: Actual other abatable GHG forcings w/m2 | B19: 0.518 | C19: 0.5363601 | D19: 0.55038826 | E19: 0.55120014 | F19: 0.55076855 | G19: 0.54897819 | H19: 0.54536617 | I19: 0.53946122 | J19: 0.53222445 | K19: 0.52334681 | L19: 0.51253906 | M19: 0.49953035 | N19: 0.48406722 | O19: 0.46591284 | P19: 0.44484667 | Q19: 0.42066399 | R19: 0.39317499 | S19: 0.36220223 | T19: 0.32824301 | U19: 0.29151208 | V19: 0.25218467 | W19: 0.21038755 | X19: 0.16634118 | Y19: 0.12841726 | Z19: 0.09576476 | AA19: 0.067650958 | AB19: 0.043444975 | AC19: 0.022603623 | AD19: 0.0046592197 | AE19: -0.010790912 | AF19: -0.024093475 | AG19: -0.035546982 | AH19: -0.045408452 | AI19: -0.053899177 | AJ19: -0.061209691 | AK19: -0.067504044 | AL19: -0.072923482 | AM19: -0.077589618 | AN19: -0.074205911 | AO19: -0.07129254 | AP19: -0.068784127 | AQ19: -0.066624383 | AR19: -0.064764844 | AS19: -0.06316378 | AT19: -0.061785265 | AU19: -0.060598363 | AV19: -0.059576441 | AW19: -0.058696565 | AX19: -0.057938993 | AY19: -0.057286723 | AZ19: -0.056725118 | BA19: -0.056241577 | BB19: -0.055825248 | BC19: -0.055466788 | BD19: -0.055158155 | BE19: -0.054892421 | BF19: -0.054663625 | BG19: -0.054466631 | BH19: -0.046895769 | BI19: -0.040377257 | BJ19: -0.034764819 | BK19: -0.029932509 | BL19: -0.02577189 | BM19: -0.022189597 | BN19: -0.019105243 | BO19: -0.016449614 | BP19: -0.014163118 | BQ19: -0.012194445 | BR19: -0.010499417 | BS19: -0.0090399979 | BT19: -0.0077834382 | BU19: -0.0067015403 | BV19: -0.0057700262 | BW19: -0.0049679925 | BX19: -0.0042774416 | BY19: -0.0036828772 | BZ19: -0.0031709573 | CA19: -0.0027301942 | CB19: -0.0023506972 | CC19: -0.0020239503 | CD19: -0.0017426212
A20: Carbon price (2019 $ per t CO2) | B20: 5.7603329 | C20: 16.610429 | D20: 64.121565 | E20: 75.700408 | F20: 87.344907 | G20: 100.42665 | H20: 115.07107 | I20: 131.38922 | J20: 149.49999 | K20: 169.51384 | L20: 191.5355 | M20: 215.66273 | N20: 241.98451 | O20: 270.57973 | P20: 301.5167 | Q20: 334.85524 | R20: 370.65493 | S20: 404.01318 | T20: 439.22539 | U20: 476.38298 | V20: 515.65873 | W20: 556.49778 | X20: 553.72224 | Y20: 550.96054 | Z20: 548.21261 | AA20: 545.47839 | AB20: 542.7578 | AC20: 540.05079 | AD20: 537.35727 | AE20: 534.67719 | AF20: 532.01048 | AG20: 529.35707 | AH20: 526.71689 | AI20: 524.08988 | AJ20: 521.47597 | AK20: 518.87509 | AL20: 516.28719 | AM20: 476.86392 | AN20: 474.48555 | AO20: 472.11904 | AP20: 469.76434 | AQ20: 467.42138 | AR20: 465.09011 | AS20: 462.77046 | AT20: 460.46238 | AU20: 458.16582 | AV20: 455.8807 | AW20: 453.60699 | AX20: 451.34462 | AY20: 449.09353 | AZ20: 446.85366 | BA20: 444.62497 | BB20: 442.40739 | BC20: 440.20088 | BD20: 438.00537 | BE20: 435.82081 | BF20: 433.64714 | BG20: 399.082 | BH20: 397.09157 | BI20: 395.11106 | BJ20: 393.14044 | BK20: 391.17964 | BL20: 389.22863 | BM20: 387.28734 | BN20: 385.35574 | BO20: 383.43377 | BP20: 381.52138 | BQ20: 379.61854 | BR20: 377.72518 | BS20: 375.84127 | BT20: 373.96675 | BU20: 372.10159 | BV20: 370.24572 | BW20: 368.39911 | BX20: 366.56172 | BY20: 364.73348 | BZ20: 362.91437 | CA20: 361.10432 | CB20: 359.30331 | CC20: 357.51128 | CD20: 355.72818
A21: Emissions control rate | B21: 0.05 | C21: 0.1 | D21: 0.24 | E21: 0.27468931 | F21: 0.30992069 | G21: 0.34890274 | H21: 0.39194427 | I21: 0.42714712 | J21: 0.46449982 | K21: 0.50401703 | L21: 0.54570128 | M21: 0.58954338 | N21: 0.63552221 | O21: 0.68360496 | P21: 0.73374888 | Q21: 0.78590617 | R21: 0.84003677 | S21: 0.88929646 | T21: 0.93990978 | U21: 0.99194215 | V21: 1.0455561 | W21: 1.1 | X21: 1.1 | Y21: 1.1 | Z21: 1.1 | AA21: 1.1 | AB21: 1.1 | AC21: 1.1 | AD21: 1.1 | AE21: 1.1 | AF21: 1.1 | AG21: 1.1 | AH21: 1.1 | AI21: 1.1 | AJ21: 1.1 | AK21: 1.1 | AL21: 1.1 | AM21: 1.05 | AN21: 1.05 | AO21: 1.05 | AP21: 1.05 | AQ21: 1.05 | AR21: 1.05 | AS21: 1.05 | AT21: 1.05 | AU21: 1.05 | AV21: 1.05 | AW21: 1.05 | AX21: 1.05 | AY21: 1.05 | AZ21: 1.05 | BA21: 1.05 | BB21: 1.05 | BC21: 1.05 | BD21: 1.05 | BE21: 1.05 | BF21: 1.05 | BG21: 1 | BH21: 1 | BI21: 1 | BJ21: 1 | BK21: 1 | BL21: 1 | BM21: 1 | BN21: 1 | BO21: 1 | BP21: 1 | BQ21: 1 | BR21: 1 | BS21: 1 | BT21: 1 | BU21: 1 | BV21: 1 | BW21: 1 | BX21: 1 | BY21: 1 | BZ21: 1 | CA21: 1 | CB21: 1 | CC21: 1 | CD21: 1
A22: Social cost of carbon $/tCO2 | B22: 50.206567 | C22: 59.066549 | D22: 69.491578 | E22: 81.088921 | F22: 94.047575 | G22: 108.49264 | H22: 124.53983 | I22: 142.28698 | J22: 161.84389 | K22: 183.30824 | L22: 206.771 | M22: 232.31519 | N22: 260.01391 | O22: 289.92826 | P22: 322.10548 | Q22: 356.5783 | R22: 393.36793 | S22: 432.48839 | T22: 474.06974 | U22: 518.19935 | V22: 565.02771 | W22: 614.87714 | X22: 668.19044 | Y22: 724.94298 | Z22: 784.87623 | AA22: 847.72602 | AB22: 913.215 | AC22: 981.03924 | AD22: 1050.8603 | AE22: 1122.3077 | AF22: 1194.9712 | AG22: 1268.4125 | AH22: 1342.1899 | AI22: 1415.8998 | AJ22: 1489.2404 | AK22: 1562.0862 | AL22: 1634.4306 | AM22: 1700.9507 | AN22: 1767.7729 | AO22: 1826.842 | AP22: 1876.5796 | AQ22: 1915.5809 | AR22: 1942.429 | AS22: 1955.6947 | AT22: 1953.9982 | AU22: 1936.1125 | AV22: 1901.1328 | AW22: 1848.8582 | AX22: 1880.9185 | AY22: 1910.1228 | AZ22: 1937.7868 | BA22: 1966.0181 | BB22: 1998.0482 | BC22: 2038.737 | BD22: 2095.3348 | BE22: 2178.4618 | BF22: 2302.1964 | BG22: 2465.9961 | BH22: 2635.546 | BI22: 2793.6279 | BJ22: 2940.1938 | BK22: 3076.3028 | BL22: 3202.4118 | BM22: 3318.1396 | BN22: 3422.3353 | BO22: 3513.1795 | BP22: 3588.2625 | BQ22: 3644.6321 | BR22: 3678.8213 | BS22: 3686.8623 | BT22: 3664.2936 | BU22: 3606.1659 | BV22: 3507.0532 | BW22: 3361.0734 | BX22: 3161.9348 | BY22: 2903.0324 | BZ22: 2577.6705 | CA22: 2179.6123 | CB22: 1704.586 | CC22: 1154.8237 | CD22: 553.88595
A23: Output, net net trill 2019$ | B23: 134.15794 | C23: 155.60259 | D23: 178.69113 | E23: 203.90276 | F23: 231.27092 | G23: 260.92193 | H23: 293.00155 | I23: 327.70838 | J23: 365.21333 | K23: 405.72146 | L23: 449.45932 | M23: 496.67618 | N23: 547.64568 | O23: 602.6676 | P23: 662.0695 | Q23: 726.20705 | R23: 795.46073 | S23: 870.48172 | T23: 951.6298 | U23: 1039.3497 | V23: 1134.0662 | W23: 1236.1741 | X23: 1350.6655 | Y23: 1475.3957 | Z23: 1610.713 | AA23: 1757.1697 | AB23: 1915.4557 | AC23: 2086.3612 | AD23: 2270.7612 | AE23: 2469.6452 | AF23: 2684.0368 | AG23: 2915.0154 | AH23: 3163.7111 | AI23: 3431.2921 | AJ23: 3718.9363 | AK23: 4027.7715 | AL23: 4358.7483 | AM23: 4719.4889 | AN23: 5100.7315 | AO23: 5505.1048 | AP23: 5934.9428 | AQ23: 6392.4056 | AR23: 6879.585 | AS23: 7398.5528 | AT23: 7951.3902 | AU23: 8540.2077 | AV23: 9167.1592 | AW23: 9834.4525 | AX23: 10544.356 | AY23: 11299.204 | AZ23: 12101.399 | BA23: 12953.412 | BB23: 13857.783 | BC23: 14817.118 | BD23: 15834.09 | BE23: 16911.433 | BF23: 18051.941 | BG23: 19269.156 | BH23: 20537.405 | BI23: 21876.664 | BJ23: 23291.148 | BK23: 24784.793 | BL23: 26361.484 | BM23: 28025.145 | BN23: 29779.789 | BO23: 31629.545 | BP23: 33578.665 | BQ23: 35631.538 | BR23: 37792.692 | BS23: 40066.801 | BT23: 42458.686 | BU23: 44973.318 | BV23: 47615.823 | BW23: 50391.481 | BX23: 53305.728 | BY23: 56364.162 | BZ23: 59572.541 | CA23: 62936.785 | CB23: 66462.98 | CC23: 70157.375 | CD23: 74026.389
... A28: Change TFP, %/year | B28: 0.066 | C28: 0.065506852 | D28: 0.065017388 | E28: 0.064531582 | F28: 0.064049405 | G28: 0.063570832 | H28: 0.063095834 | I28: 0.062624385 | J28: 0.062156459 | K28: 0.06169203 | L28: 0.06123107 | M28: 0.060773555 | N28: 0.060319458 | O28: 0.059868755 | P28: 0.059421419 | Q28: 0.058977425 | R28: 0.058536749 | S28: 0.058099365 | T28: 0.05766525 | U28: 0.057234379 | V28: 0.056806726 | W28: 0.05638227 | X28: 0.055960984 | Y28: 0.055542847 | Z28: 0.055127834 | AA28: 0.054715922 | AB28: 0.054307087 | AC28: 0.053901308 | AD28: 0.05349856 | AE28: 0.053098822 | AF28: 0.05270207 | AG28: 0.052308283 | AH28: 0.051917439 | AI28: 0.051529515 | AJ28: 0.051144489 | AK28: 0.05076234 | AL28: 0.050383047 | AM28: 0.050006587 | AN28: 0.049632941 | AO28: 0.049262086 | AP28: 0.048894003 | AQ28: 0.048528669 | AR28: 0.048166066 | AS28: 0.047806172 | AT28: 0.047448966 | AU28: 0.04709443 | AV28: 0.046742543 | AW28: 0.046393286 | AX28: 0.046046638 | AY28: 0.04570258 | AZ28: 0.045361092 | BA28: 0.045022157 | BB28: 0.044685754 | BC28: 0.044351864 | BD28: 0.044020469 | BE28: 0.043691551 | BF28: 0.04336509 | BG28: 0.043041069 | BH28: 0.042719468 | BI28: 0.04240027 | BJ28: 0.042083458 | BK28: 0.041769013 | BL28: 0.041456917 | BM28: 0.041147153 | BN28: 0.040839704 | BO28: 0.040534552 | BP28: 0.04023168 | BQ28: 0.039931071 | BR28: 0.039632708 | BS28: 0.039336575 | BT28: 0.039042654 | BU28: 0.03875093 | BV28: 0.038461385 | BW28: 0.038174003 | BX28: 0.037888769 | BY28: 0.037605666 | BZ28: 0.037324679 | CA28: 0.037045791 | CB28: 0.036768987 | CC28: 0.036494251 | CD28: 0.036221568
A29: Capital stock, 2019$ | B29: 295 | C29: 346.16408 | D29: 401.81408 | E29: 461.65546 | F29: 527.04109 | G29: 598.47595 | H29: 676.42341 | I29: 761.33824 | J29: 853.92601 | K29: 954.85009 | L29: 1064.8557 | M29: 1184.7775 | N29: 1315.5473 | O29: 1458.1999 | P29: 1613.8748 | Q29: 1783.8054 | R29: 1969.2764 | S29: 2171.5081 | T29: 2392.7578 | U29: 2634.5041 | V29: 2897.8021 | W29: 3182.5614 | X29: 3486.2545 | Y29: 3825.017 | Z29: 4198.3761 | AA29: 4607.1576 | AB29: 5053.0701 | AC29: 5538.426 | AD29: 6065.9651 | AE29: 6638.7559 | AF29: 7260.2786 | AG29: 7934.2021 | AH29: 8664.3268 | AI29: 9454.4582 | AJ29: 10308.132 | AK29: 11228.038 | AL29: 12214.812 | AM29: 13264.565 | AN29: 14439.877 | AO29: 15667.627 | AP29: 16958.724 | AQ29: 18322.877 | AR29: 19768.843 | AS29: 21304.723 | AT29: 22938.2 | AU29: 24676.724 | AV29: 26527.65 | AW29: 28498.335 | AX29: 30596.215 | AY29: 32828.858 | AZ29: 35203.998 | BA29: 37729.568 | BB29: 40413.71 | BC29: 43264.787 | BD29: 46291.389 | BE29: 49502.328 | BF29: 52906.636 | BG29: 56513.557 | BH29: 60347.508 | BI29: 64386.968 | BJ29: 68647.191 | BK29: 73143.086 | BL29: 77888.972 | BM29: 82898.737 | BN29: 88186.078 | BO29: 93764.702 | BP29: 99648.482 | BQ29: 105851.5629226522 | BR29: 112388.4426367981 | BS29: 119274.0209166938 | BT29: 126523.6386557094 | BU29: 134153.1040726643 | BV29: 142178.7122922413 | BW29: 150617.2602878730 | BX29: 159486.0587678697 | BY29: 168802.9420355965 | BZ29: 178586.2764872642 | CA29: 188854.9681680610 | CB29: 199628.4696482240 | CC29: 210926.7863773290 | CD29: 222770.4826086840
A30: Savings rate, fraction gross output | B30: 0.25636878 | C30: 0.25373313 | D30: 0.25114651 | E30: 0.24956814 | F30: 0.24842159 | G30: 0.24760613 | H30: 0.247041 | I30: 0.24678246 | J30: 0.24676827 | K30: 0.24698039 | L30: 0.24740432 | M30: 0.24802802 | N30: 0.24884059 | O30: 0.24983004 | P30: 0.25097922 | Q30: 0.25225787 | R30: 0.25360651 | S30: 0.25514699 | T30: 0.25673945 | U30: 0.25826798 | V30: 0.25949777 | W30: 0.25999313 | X30: 0.26156271 | Y30: 0.2629453 | Z30: 0.26423807 | AA30: 0.26549395 | AB30: 0.26673952 | AC30: 0.26798618 | AD30: 0.26923696 | AE30: 0.27049713 | AF30: 0.27176082 | AG30: 0.2730181 | AH30: 0.27425133 | AI30: 0.27542799 | AJ30: 0.27648707 | AK30: 0.27731305 | AL30: 0.27768706 | AM30: 0.28 | AN30: 0.28 | AO30: 0.28 | AP30: 0.28 | AQ30: 0.28 | AR30: 0.28 | AS30: 0.28 | AT30: 0.28 | AU30: 0.28 | AV30: 0.28 | AW30: 0.28 | AX30: 0.28 | AY30: 0.28 | AZ30: 0.28 | BA30: 0.28 | BB30: 0.28 | BC30: 0.28 | BD30: 0.28 | BE30: 0.28 | BF30: 0.28 | BG30: 0.28 | BH30: 0.28 | BI30: 0.28 | BJ30: 0.28 | BK30: 0.28 | BL30: 0.28 | BM30: 0.28 | BN30: 0.28 | BO30: 0.28 | BP30: 0.28 | BQ30: 0.28 | BR30: 0.28 | BS30: 0.28 | BT30: 0.28 | BU30: 0.28 | BV30: 0.28 | BW30: 0.28 | BX30: 0.28 | BY30: 0.28 | BZ30: 0.28 | CA30: 0.28 | CB30: 0.28 | CC30: 0.28 | CD30: 0.28
A31: Gross investment, 2019$ | B31: 34.393906 | C31: 39.481531 | D31: 44.877652 | E31: 50.887632 | F31: 57.452691 | G31: 64.605869 | H31: 72.383395 | I31: 80.87268 | J31: 90.123064 | K31: 100.20525 | L31: 111.19818 | M31: 123.18961 | N31: 136.27647 | O31: 150.56447 | P31: 166.16569 | Q31: 183.19144 | R31: 201.73402 | S31: 222.10079 | T31: 244.32091 | U31: 268.43075 | V31: 294.28764 | W31: 321.39677 | X31: 353.28373 | Y31: 387.94836 | Z31: 425.61169 | AA31: 466.51793 | AB31: 510.92773 | AC31: 559.11598 | AD31: 611.37284 | AE31: 668.03192 | AF31: 729.41603 | AG31: 795.85197 | AH31: 867.65196 | AI31: 945.07388 | AJ31: 1028.2378 | AK31: 1116.9536 | AL31: 1210.368 | AM31: 1321.4569 | AN31: 1428.2048 | AO31: 1541.4293 | AP31: 1661.784 | AQ31: 1789.8736 | AR31: 1926.2838 | AS31: 2071.5948 | AT31: 2226.3893 | AU31: 2391.2582 | AV31: 2566.8046 | AW31: 2753.6467 | AX31: 2952.4197 | AY31: 3163.7772 | AZ31: 3388.3918 | BA31: 3626.9554 | BB31: 3880.1791 | BC31: 4148.793 | BD31: 4433.5451 | BE31: 4735.2013 | BF31: 5054.5436 | BG31: 5395.3635 | BH31: 5750.4735 | BI31: 6125.466 | BJ31: 6521.5213 | BK31: 6939.7422 | BL31: 7381.2156 | BM31: 7847.0405 | BN31: 8338.341 | BO31: 8856.2725 | BP31: 9402.0262 | BQ31: 9976.8306 | BR31: 10581.954 | BS31: 11218.704 | BT31: 11888.432 | BU31: 12592.529 | BV31: 13332.43 | BW31: 14109.615 | BX31: 14925.604 | BY31: 15781.965 | BZ31: 16680.312 | CA31: 17622.3 | CB31: 18609.634 | CC31: 19644.065 | CD31: 20727.389
A32: Y gross-net, 2019$ | B32: 134.16403 | C32: 155.64016 | D32: 179.06107 | E32: 204.43135 | F32: 231.99616 | G32: 261.90871 | H32: 294.33395 | I32: 329.44477 | J32: 367.46073 | K32: 408.61123 | L32: 453.1517 | M32: 501.36551 | N32: 553.56627 | O32: 610.10032 | P32: 671.3492 | Q32: 737.73096 | R32: 809.69819 | S32: 887.81135 | T32: 972.64388 | U32: 1064.746 | V32: 1164.6715 | W32: 1272.8854 | X32: 1389.2519 | Y32: 1515.9984 | Z32: 1653.4692 | AA32: 1802.2177 | AB32: 1962.9381 | AC32: 2136.427 | AD32: 2323.5625 | AE32: 2525.2911 | AF32: 2742.6393 | AG32: 2976.689 | AH32: 3228.5727 | AI32: 3499.4601 | AJ32: 3790.5301 | AK32: 4102.9086 | AL32: 4437.5412 | AM32: 4792.6323 | AN32: 5177.3849 | AO32: 5585.3246 | AP32: 6018.8002 | AQ32: 6479.983 | AR32: 6970.9727 | AS32: 7493.847 | AT32: 8050.6914 | AU32: 8643.6197 | AV32: 9274.788 | AW32: 9946.4057 | AX32: 10660.743 | AY32: 11420.133 | AZ32: 12226.981 | BA32: 13083.756 | BB32: 13992.998 | BC32: 14957.315 | BD32: 15979.376 | BE32: 17061.916 | BF32: 18207.728 | BG32: 19411.145 | BH32: 20684.26 | BI32: 22028.462 | BJ32: 23447.967 | BK32: 24946.717 | BL32: 26528.594 | BM32: 28197.524 | BN32: 29957.519 | BO32: 31812.706 | BP32: 33767.336 | BQ32: 35825.796 | BR32: 37992.612 | BS32: 40272.455 | BT32: 42670.144 | BU32: 45190.649 | BV32: 47839.091 | BW32: 50620.748 | BX32: 53541.055 | BY32: 56605.605 | BZ32: 59820.154 | CA32: 63190.619 | CB32: 66723.081 | CC32: 70423.788 | CD32: 74299.155
A33: Consumption per capita, 2019$ | B33: 12.867963 | C33: 14.270101 | D33: 15.777713 | E33: 17.414565 | F33: 19.192683 | G33: 21.123374 | H33: 23.219057 | I33: 25.491757 | J33: 27.954142 | K33: 30.619802 | L33: 33.503316 | M33: 36.620347 | N33: 39.987782 | O33: 43.623967 | P33: 47.549104 | Q33: 51.785974 | R33: 56.361351 | S33: 61.307097 | T33: 66.653646 | U33: 72.438649 | V33: 78.714526 | W33: 85.563667 | X33: 93.121972 | Y33: 101.37462 | Z33: 110.33261 | AA33: 120.02396 | AB33: 130.48803 | AC33: 141.77223 | AD33: 153.93042 | AE33: 167.02303 | AF33: 181.11465 | AG33: 196.27468 | AH33: 212.57852 | AI33: 230.11013 | AJ33: 248.96712 | AK33: 269.27113 | AL33: 291.18873 | AM33: 314.22455 | AN33: 339.55782 | AO33: 366.43103 | AP33: 394.99945 | AQ33: 425.40673 | AR33: 457.79193 | AS33: 492.29279 | AT33: 529.04768 | AU33: 568.19687 | AV33: 609.88358 | AW33: 654.25455 | AX33: 701.46063 | AY33: 751.65698 | AZ33: 805.00332 | BA33: 861.66395 | BB33: 921.80776 | BC33: 985.60808 | BD33: 1053.2426 | BE33: 1124.8931 | BF33: 1200.7455 | BG33: 1281.7003 | BH33: 1366.05 | BI33: 1455.1231 | BJ33: 1549.2 | BK33: 1648.5425 | BL33: 1753.409 | BM33: 1864.0603 | BN33: 1980.7635 | BO33: 2103.7931 | BP33: 2233.4319 | BQ33: 2369.9717 | BR33: 2513.7139 | BS33: 2664.9692 | BT33: 2824.0582 | BU33: 2991.3117 | BV33: 3167.0704 | BW33: 3351.6856 | BX33: 3545.5189 | BY33: 3748.9426 | BZ33: 3962.3396 | CA33: 4186.1037 | CB33: 4420.6396 | CC33: 4666.3631 | CD33: 4923.7011
A34: Consumption | B34: 99.764031 | C34: 116.12106 | D34: 133.81347 | E34: 153.01513 | F34: 173.81823 | G34: 196.31606 | H34: 220.61815 | I34: 246.8357 | J34: 275.09027 | K34: 305.51622 | L34: 338.26114 | M34: 373.48657 | N34: 411.36921 | O34: 452.10314 | P34: 495.90382 | Q34: 543.01561 | R34: 593.72671 | S34: 648.38093 | T34: 707.30889 | U34: 770.91898 | V34: 839.77852 | W34: 914.7773 | X34: 997.38178 | Y34: 1087.4473 | Z34: 1185.1013 | AA34: 1290.6518 | AB34: 1404.528 | AC34: 1527.2452 | AD34: 1659.3884 | AE34: 1801.6133 | AF34: 1954.6207 | AG34: 2119.1634 | AH34: 2296.0591 | AI34: 2486.2182 | AJ34: 2690.6985 | AK34: 2910.8179 | AL34: 3148.3803 | AM34: 3398.032 | AN34: 3672.5267 | AO34: 3963.6755 | AP34: 4273.1588 | AQ34: 4602.5321 | AR34: 4953.3012 | AS34: 5326.958 | AT34: 5725.0009 | AU34: 6148.9495 | AV34: 6600.3547 | AW34: 7080.8058 | AX34: 7591.9365 | AY34: 8135.4272 | AZ34: 8713.0075 | BA34: 9326.4567 | BB34: 9977.6035 | BC34: 10668.325 | BD34: 11400.545 | BE34: 12176.232 | BF34: 12997.398 | BG34: 13873.792 | BH34: 14786.932 | BI34: 15751.198 | BJ34: 16769.626 | BK34: 17845.051 | BL34: 18980.269 | BM34: 20178.104 | BN34: 21441.448 | BO34: 22773.272 | BP34: 24176.639 | BQ34: 25654.707 | BR34: 27210.739 | BS34: 28848.097 | BT34: 30570.254 | BU34: 32380.789 | BV34: 34283.393 | BW34: 36281.866 | BX34: 38380.124 | BY34: 40582.197 | BZ34: 42892.23 | CA34: 45314.485 | CB34: 47853.345 | CC34: 50513.31 | CD34: 53299
A35: Climate damages, fraction of output | B35: 0.0053925133 | C35: 0.0070386364 | D35: 0.0082899263 | E35: 0.0094176933 | F35: 0.010539376 | G35: 0.011681596 | H35: 0.012839507 | I35: 0.014017012 | J35: 0.015209123 | K35: 0.016402761 | L35: 0.017581207 | M35: 0.018725207 | N35: 0.019813177 | O35: 0.020821156 | P35: 0.021722702 | Q35: 0.022488751 | R35: 0.023087448 | S35: 0.023392292 | T35: 0.02345736 | U35: 0.02327726 | V35: 0.022826945 | W35: 0.022077765 | X35: 0.02125595 | Y35: 0.02045193 | Z35: 0.019674786 | AA35: 0.018916097 | AB35: 0.018165815 | AC35: 0.017415476 | AD35: 0.016658442 | AE35: 0.015890134 | AF35: 0.015107267 | AG35: 0.014307549 | AH35: 0.013489573 | AI35: 0.012652785 | AJ35: 0.011797513 | AK35: 0.010925023 | AL35: 0.010037633 | AM35: 0.0096135462 | AN35: 0.0092689738 | AO35: 0.0089057666 | AP35: 0.0085116863 | AQ35: 0.0080897803 | AR35: 0.0076442094 | AS35: 0.0071784193 | AT35: 0.0066954315 | AU35: 0.0061982249 | AV35: 0.0056899612 | AW35: 0.005174103 | AX35: 0.0046544787 | AY35: 0.0041353205 | AZ35: 0.0036212861 | BA35: 0.0031174638 | BB35: 0.0026293616 | BC35: 0.0021628755 | BD35: 0.0017242405 | BE35: 0.0013199684 | BF35: 0.0009567849 | BG35: 0.0010795981 | BH35: 0.0012447794 | BI35: 0.001382419 | BJ35: 0.0014831825 | BK35: 0.0015532913 | BL35: 0.0016011071 | BM35: 0.0016335236 | BN35: 0.0016555062 | BO35: 0.0016704463 | BP35: 0.0016806091 | BQ35: 0.0016874947 | BR35: 0.0016920955 | BS35: 0.0016950708 | BT35: 0.0016968618 | BU35: 0.0016977673 | BV35: 0.0016979928 | BW35: 0.0016976822 | BX35: 0.0016969389 | BY35: 0.0016958388 | BZ35: 0.0016944392 | CA35: 0.0016927848 | CB35: 0.001690911 | CC35: 0.0016888469 | CD35: 0.0016866166
A36: Damages, 2019$ | B36: 0.72740386 | C36: 1.1032599 | D36: 1.4968115 | E36: 1.9435758 | F36: 2.4711389 | G36: 3.0956741 | H36: 3.8282558 | I36: 4.6834796 | J36: 5.6750684 | K36: 6.8141228 | L36: 8.109529 | M36: 9.5673231 | N36: 11.189608 | O36: 12.973109 | P36: 14.907347 | Q36: 16.972334 | R36: 19.135659 | S36: 21.265389 | T36: 23.363709 | U36: 25.37503 | V36: 27.206943 | W36: 28.73691 | X36: 30.171186 | Y36: 31.652447 | Z36: 33.184552 | AA36: 34.748225 | AB36: 36.318118 | AC36: 37.866355 | AD36: 39.362651 | AE36: 40.775136 | AF36: 42.069336 | AG36: 43.207315 | AH36: 44.147599 | AI36: 44.845337 | AJ36: 45.252696 | AK36: 45.319487 | AL36: 44.994044 | AM36: 46.521428 | AN36: 48.438016 | AO36: 50.188565 | AP36: 51.669938 | AQ36: 52.849177 | AR36: 53.698054 | AS36: 54.182923 | AT36: 54.266188 | AU36: 53.90924 | AV36: 53.075179 | AW36: 51.731391 | AX36: 49.852236 | AY36: 47.422018 | AZ36: 44.438319 | BA36: 40.915689 | BB36: 36.889649 | BC36: 32.420932 | BD36: 27.599876 | BE36: 22.550957 | BF36: 17.437563 | BG36: 20.978883 | BH36: 25.77943 | BI36: 30.494721 | BJ36: 34.829272 | BK36: 38.809802 | BL36: 42.543238 | BM36: 46.136688 | BN36: 49.6771 | BO36: 53.230335 | BP36: 56.845226 | BQ36: 60.558031 | BR36: 64.396093 | BS36: 68.380574 | BT36: 72.52841 | BU36: 76.853686 | BV36: 81.368593 | BW36: 86.084086 | BX36: 91.010336 | BY36: 96.157046 | BZ36: 101.53366 | CA36: 107.1495 | CB36: 113.01389 | CC36: 119.1362 | CD36: 125.52591
A37: Abatement, 2019$ | B37: 0.0060950712 | C37: 0.037572963 | D37: 0.36994455 | E37: 0.52859096 | F37: 0.72523553 | G37: 0.98677944 | H37: 1.332399 | I37: 1.7363884 | J37: 2.2473973 | K37: 2.8897643 | L37: 3.6923798 | M37: 4.6893312 | N37: 5.9205841 | O37: 7.4327114 | P37: 9.2796973 | Q37: 11.523902 | R37: 14.237469 | S37: 17.329629 | T37: 21.014075 | U37: 25.396253 | V37: 30.605341 | W37: 36.711293 | X37: 38.58638 | Y37: 40.602753 | Z37: 42.756236 | AA37: 45.047963 | AB37: 47.482345 | AC37: 50.065789 | AD37: 52.801231 | AE37: 55.645892 | AF37: 58.602504 | AG37: 61.673646 | AH37: 64.861597 | AI37: 68.16808 | AJ37: 71.593746 | AK37: 75.137178 | AL37: 78.792908 | AM37: 73.143408 | AN37: 76.653436 | AO37: 80.219799 | AP37: 83.857439 | AQ37: 87.577378 | AR37: 91.387663 | AS37: 95.29418 | AT37: 99.301242 | AU37: 103.41201 | AV37: 107.62878 | AW37: 111.9532 | AX37: 116.38639 | AY37: 120.92904 | AZ37: 125.58151 | BA37: 130.34385 | BB37: 135.21581 | BC37: 140.19689 | BD37: 145.28637 | BE37: 150.48326 | BF37: 155.78635 | BG37: 141.98981 | BH37: 146.85509 | BI37: 151.79735 | BJ37: 156.81955 | BK37: 161.92357 | BL37: 167.11017 | BM37: 172.37921 | BN37: 177.72989 | BO37: 183.16096 | BP37: 188.6708 | BQ37: 194.25754 | BR37: 199.91914 | BS37: 205.65335 | BT37: 211.45781 | BU37: 217.33004 | BV37: 223.26742 | BW37: 229.26726 | BX37: 235.32672 | BY37: 241.4429 | BZ37: 247.6128 | CA37: 253.83331 | CB37: 260.10126 | CC37: 266.41336 | CD37: 272.76629
A38: Abatement/0utput | B38: 4.54321e-05 | C38: 0.0002414675 | D38: 0.0020703017 | E38: 0.0025923678 | F38: 0.0031358699 | G38: 0.0037818954 | H38: 0.0045474129 | I38: 0.0052985781 | J38: 0.0061536562 | K38: 0.0071225324 | L38: 0.008215159 | M38: 0.0094414255 | N38: 0.010810976 | O38: 0.01233302 | P38: 0.014016198 | Q38: 0.015868617 | R38: 0.017898393 | S38: 0.01990809 | T38: 0.022082195 | U38: 0.024434752 | V38: 0.026987263 | W38: 0.029697511 | X38: 0.028568421 | Y38: 0.027519908 | Z38: 0.026544913 | AA38: 0.02563666 | AB38: 0.024789059 | AC38: 0.023996702 | AD38: 0.023252656 | AE38: 0.022531938 | AF38: 0.021833719 | AG38: 0.021157228 | AH38: 0.020501745 | AI38: 0.019866592 | AJ38: 0.019251135 | AK38: 0.018654777 | AL38: 0.018076957 | AM38: 0.015498163 | AN38: 0.01502793 | AO38: 0.014571893 | AP38: 0.014129444 | AQ38: 0.013700222 | AR38: 0.013283892 | AS38: 0.012880111 | AT38: 0.012488538 | AU38: 0.01210884 | AV38: 0.011740691 | AW38: 0.011383776 | AX38: 0.01103779 | AY38: 0.010702439 | AZ38: 0.010377437 | BA38: 0.010062511 | BB38: 0.0097573912 | BC38: 0.0094618195 | BD38: 0.0091755431 | BE38: 0.0088983151 | BF38: 0.0086298944 | BG38: 0.0073687615 | BH38: 0.0071506156 | BI38: 0.0069387797 | BJ38: 0.0067330111 | BK38: 0.0065331823 | BL38: 0.0063391791 | BM38: 0.0061508767 | BN38: 0.0059681381 | BO38: 0.0057908187 | BP38: 0.0056187701 | BQ38: 0.0054518428 | BR38: 0.0052898887 | BS38: 0.0051327617 | BT38: 0.0049803192 | BU38: 0.0048324216 | BV38: 0.0046889334 | BW38: 0.0045497225 | BX38: 0.004414661 | BY38: 0.0042836244 | BZ38: 0.0041564921 | CA38: 0.0040331471 | CB38: 0.0039134757 | CC38: 0.0037973679 | CD38: 0.0036847169
A39: Sigmabase (CO2/output, no controls, industrial CO2) | B39: 0.29135477 | C39: 0.27030249 | D39: 0.25152482 | E39: 0.23472665 | F39: 0.21965683 | G39: 0.20610082 | H39: 0.19387479 | I39: 0.18282066 | J39: 0.17280212 | K39: 0.16370121 | L39: 0.15541561 | M39: 0.14785623 | N39: 0.14094538 | O39: 0.13461505 | P39: 0.12880558 | Q39: 0.12346449 | R39: 0.11854553 | S39: 0.11400781 | T39: 0.10981509 | U39: 0.10593521 | V39: 0.10233955 | W39: 0.099002593 | X39: 0.095901523 | Y39: 0.09301592 | Z39: 0.090327459 | AA39: 0.08781967 | AB39: 0.085477719 | AC39: 0.083288225 | AD39: 0.081231832 | AE39: 0.079226211 | AF39: 0.077270109 | AG39: 0.075362303 | AH39: 0.073501601 | AI39: 0.07168684 | AJ39: 0.069916886 | AK39: 0.068190632 | AL39: 0.066506999 | AM39: 0.064864935 | AN39: 0.063263414 | AO39: 0.061701435 | AP39: 0.060178021 | AQ39: 0.058692221 | AR39: 0.057243104 | AS39: 0.055829767 | AT39: 0.054451325 | AU39: 0.053106917 | AV39: 0.051795703 | AW39: 0.050516862 | AX39: 0.049269596 | AY39: 0.048053126 | AZ39: 0.04686669 | BA39: 0.045709547 | BB39: 0.044580975 | BC39: 0.043480266 | BD39: 0.042406735 | BE39: 0.041359709 | BF39: 0.040338534 | BG39: 0.039342572 | BH39: 0.0383712 | BI39: 0.037423812 | BJ39: 0.036499815 | BK39: 0.035598631 | BL39: 0.034719698 | BM39: 0.033862466 | BN39: 0.033026398 | BO39: 0.032210973 | BP39: 0.031415682 | BQ39: 0.030640026 | BR39: 0.029883521 | BS39: 0.029145694 | BT39: 0.028426084 | BU39: 0.027724242 | BV39: 0.027039728 | BW39: 0.026372115 | BX39: 0.025720985 | BY39: 0.025085931 | BZ39: 0.024466558 | CA39: 0.023862476 | CB39: 0.023273309 | CC39: 0.022698689 | CD39: 0.022138257
A40: Sigmatot,(CO2/output, no controls, all CO2) | B40: 0.40789668 | C40: 0.37521364 | D40: 0.34616103 | E40: 0.32025518 | F40: 0.29708586 | G40: 0.27630391 | H40: 0.25761112 | I40: 0.24075196 | J40: 0.22550677 | K40: 0.21168613 | L40: 0.19912624 | M40: 0.18768501 | N40: 0.17723882 | O40: 0.16767987 | P40: 0.15891388 | Q40: 0.15085818 | R40: 0.1434401 | S40: 0.13794945 | T40: 0.13287625 | U40: 0.1281816 | V40: 0.12383086 | W40: 0.11979314 | X40: 0.11604084 | Y40: 0.11254926 | Z40: 0.10929623 | AA40: 0.1062618 | AB40: 0.10342804 | AC40: 0.10077875 | AD40: 0.098290516 | AE40: 0.095863715 | AF40: 0.093496831 | AG40: 0.091188386 | AH40: 0.088936937 | AI40: 0.086741076 | AJ40: 0.084599432 | AK40: 0.082510664 | AL40: 0.080473469 | AM40: 0.078486572 | AN40: 0.076548731 | AO40: 0.074658736 | AP40: 0.072815405 | AQ40: 0.071017587 | AR40: 0.069264156 | AS40: 0.067554018 | AT40: 0.065886104 | AU40: 0.06425937 | AV40: 0.0626728 | AW40: 0.061125403 | AX40: 0.059616212 | AY40: 0.058144282 | AZ40: 0.056708695 | BA40: 0.055308552 | BB40: 0.053942979 | BC40: 0.052611122 | BD40: 0.051312149 | BE40: 0.050045248 | BF40: 0.048809626 | BG40: 0.047604512 | BH40: 0.046429152 | BI40: 0.045282813 | BJ40: 0.044164776 | BK40: 0.043074344 | BL40: 0.042010834 | BM40: 0.040973583 | BN40: 0.039961942 | BO40: 0.038975278 | BP40: 0.038012975 | BQ40: 0.037074431 | BR40: 0.03615906 | BS40: 0.03526629 | BT40: 0.034395562 | BU40: 0.033546333 | BV40: 0.032718071 | BW40: 0.031910259 | BX40: 0.031122392 | BY40: 0.030353977 | BZ40: 0.029604535 | CA40: 0.028873596 | CB40: 0.028160705 | CC40: 0.027465414 | CD40: 0.026787291
A41: Cost, backstop technology ($/tCO2) | B41: 695.17729 | C41: 661.27309 | D41: 629.02242 | E41: 598.34464 | F41: 569.16302 | G41: 541.40461 | H41: 515 | I41: 512.43143 | J41: 509.87566 | K41: 507.33265 | L41: 504.80232 | M41: 502.2846 | N41: 499.77945 | O41: 497.28679 | P41: 494.80656 | Q41: 492.3387 | R41: 489.88315 | S41: 487.43985 | T41: 485.00873 | U41: 482.58974 | V41: 480.18282 | W41: 477.7879 | X41: 475.40492 | Y41: 473.03383 | Z41: 470.67456 | AA41: 468.32706 | AB41: 465.99127 | AC41: 463.66713 | AD41: 461.35458 | AE41: 459.05356 | AF41: 456.76402 | AG41: 454.4859 | AH41: 452.21915 | AI41: 449.96369 | AJ41: 447.71949 | AK41: 445.48648 | AL41: 443.26461 | AM41: 441.05382 | AN41: 438.85405 | AO41: 436.66526 | AP41: 434.48738 | AQ41: 432.32037 | AR41: 430.16416 | AS41: 428.01871 | AT41: 425.88395 | AU41: 423.75985 | AV41: 421.64634 | AW41: 419.54337 | AX41: 417.45089 | AY41: 415.36884 | AZ41: 413.29718 | BA41: 411.23585 | BB41: 409.18481 | BC41: 407.14399 | BD41: 405.11335 | BE41: 403.09284 | BF41: 401.0824 | BG41: 399.082 | BH41: 397.09157 | BI41: 395.11106 | BJ41: 393.14044 | BK41: 391.17964 | BL41: 389.22863 | BM41: 387.28734 | BN41: 385.35574 | BO41: 383.43377 | BP41: 381.52138 | BQ41: 379.61854 | BR41: 377.72518 | BS41: 375.84127 | BT41: 373.96675 | BU41: 372.10159 | BV41: 370.24572 | BW41: 368.39911 | BX41: 366.56172 | BY41: 364.73348 | BZ41: 362.91437 | CA41: 361.10432 | CB41: 359.30331 | CC41: 357.51128 | CD41: 355.72818
... A68: Growth TFP | B68: 0.013655768 | C68: 0.013550197 | D68: 0.013445469 | E68: 0.013341579 | F68: 0.013238517 | G68: 0.013136279 | H68: 0.013034856 | I68: 0.012934242 | J68: 0.012834429 | K68: 0.012735411 | L68: 0.012637182 | M68: 0.012539735 | N68: 0.012443062 | O68: 0.012347158 | P68: 0.012252016 | Q68: 0.01215763 | R68: 0.012063993 | S68: 0.011971099 | T68: 0.011878941 | U68: 0.011787515 | V68: 0.011696812 | W68: 0.011606828 | X68: 0.011517557 | Y68: 0.011428992 | Z68: 0.011341127 | AA68: 0.011253957 | AB68: 0.011167476 | AC68: 0.011081678 | AD68: 0.010996557 | AE68: 0.010912109 | AF68: 0.010828326 | AG68: 0.010745205 | AH68: 0.010662738 | AI68: 0.010580921 | AJ68: 0.010499749 | AK68: 0.010419216 | AL68: 0.010339316 | AM68: 0.010260046 | AN68: 0.010181398 | AO68: 0.010103369 | AP68: 0.010025953 | AQ68: 0.0099491447 | AR68: 0.0098729396 | AS68: 0.0097973327 | AT68: 0.009722319 | AU68: 0.0096478935 | AV68: 0.0095740516 | AW68: 0.0095007883 | AX68: 0.009428099 | AY68: 0.0093559789 | AZ68: 0.0092844234 | BA68: 0.0092134279 | BB68: 0.0091429878 | BC68: 0.0090730985 | BD68: 0.0090037556 | BE68: 0.0089349545 | BF68: 0.0088666909 | BG68: 0.0087989605 | BH68: 0.0087317587 | BI68: 0.0086650814 | BJ68: 0.0085989243 | BK68: 0.0085332832 | BL68: 0.0084681538 | BM68: 0.008403532 | BN68: 0.0083394138 | BO68: 0.0082757949 | BP68: 0.0082126714 | BQ68: 0.0081500392 | BR68: 0.0080878944 | BS68: 0.0080262331 | BT68: 0.0079650512 | BU68: 0.007904345 | BV68: 0.0078441106 | BW68: 0.0077843443 | BX68: 0.0077250421 | BY68: 0.0076662004 | BZ68: 0.0076078155 | CA68: 0.0075498837 | CB68: 0.0074924014 | CC68: 0.0074353649 | CD68: 0
A69: yr0 = | B69: 2020 | C69: emshare0 = | D69: 0.2173 | E69: emshare1 = | F69: 0.224 | G69: emshare2 = | H69: 0.2824 | I69: emshare3 = | J69: 0.2763 | K69: tau0 = | L69: 1000000.0000000000 | M69: tau1 = | N69: 394.4 | O69: tau2 = | P69: 36.53 | Q69: tau3 = | R69: 4.304 | S69: teq1 = | T69: 0.324 | U69: teq2 = | V69: 0.44 | W69: d1 = | X69: 236 | Y69: d2 = | Z69: 4.07 | AA69: IRF0 = | AB69: 32.4 | AC69: irC = | AD69: 0.019 | AE69: irT = | AF69: 4.165
A70: fco22x = | B70: 3.93 | C70: mat0 = | D70: 886.5128 | E70: res00 = | F70: 150.093 | G70: res10 = | H70: 102.698 | I70: res20 = | J70: 39.534 | K70: res30 = | L70: 6.1865 | M70: mateq = | N70: 588 | O70: tbox10 = | P70: 0.1477 | Q70: tbox20 = | R70: 1.099454 | S70: tatm0 = | T70: 1.24715
A71: a2 = | B71: 0.003467 | C71: elasmu = | D71: 0.95 | E71: prstp = | F71: 0.001 | G71: gsigma1 = | H71: -0.015 | I71: e1 = | J71: 37.56 | K71: expcost2 = | L71: 2.6 | M71: gback = | N71: -0.012 | O71: limmiu2050 = | P71: 1 | Q71: limmiu2100 = | R71: 1.1 | S71: cprice1 = | T71: 6 | U71: gcprice = | V71: 0.025
A73: SCENARIO: T < 2%
...

Sheet Base
A1: =+D66 -> 0 | B1: 1 | C1: 2 | D1: 3 | E1: 4 | F1: 5 | G1: 6 | H1: 7 | I1: 8 | J1: 9 | K1: 10 | L1: 11 | M1: 12 | N1: 13 | O1: 14 | P1: 15 | Q1: 16 | R1: 17 | S1: 18 | T1: 19 | U1: 20 | V1: 21 | W1: 22 | X1: 23 | Y1: 24 | Z1: 25 | AA1: 26 | AB1: 27 | AC1: 28 | AD1: 29 | AE1: 30 | AF1: 31 | AG1: 32 | AH1: 33 | AI1: 34 | AJ1: 35 | AK1: 36 | AL1: 37 | AM1: 38 | AN1: 39 | AO1: =+AN1+1 -> 40 | AP1: =+AO1+1 -> 41 | AQ1: =+AP1+1 -> 42 | AR1: =+AQ1+1 -> 43 | AS1: =+AR1+1 -> 44 | AT1: =+AS1+1 -> 45 | AU1: =+AT1+1 -> 46 | AV1: =+AU1+1 -> 47 | ... CD1: =+CC1+1 -> 81
A2: Year | B2: 2020 | C2: =+B2+Parameters!$B$14 -> 2025 | D2: =+C2+Parameters!$B$14 -> 2030 | E2: =+D2+Parameters!$B$14 -> 2035 | F2: =+E2+Parameters!$B$14 -> 2040 | G2: =+F2+Parameters!$B$14 -> 2045 | H2: =+G2+Parameters!$B$14 -> 2050 | I2: =+H2+Parameters!$B$14 -> 2055 | J2: =+I2+Parameters!$B$14 -> 2060 | ... CD2: =+CC2+Parameters!$B$14 -> 2420
A3: ECONOMIC MODULE
A4: ECONOMIC PARAMETERS | C4: parameters
A5: Capital share | B5: =+Parameters!B16 -> 0.3 | C5: FAIR
A6: Depreciation | B6: =+Parameters!B17 -> 0.1 | C6: formula base
A7: Initial output (2019 US International $, trillions) | B7: =+Parameters!B19 -> 135.7 | C7: Here
A8: Initial K | B8: =+Parameters!B25 -> 295 | C8: GAMS
A9: WELFARE | C9: Optimized | R9: 3.46078 | T9: 3.660361 | AB9: 4.427258 | AL9: 5.36811 | BF9: 7.264514
A10: Time preference plus risk (per year) | B10: =+Parameters!$B$5 -> 0.026341
A11: Elasticity of MU of consumption | B11: =+Parameters!B6 -> 0.95
A12: RR1 Social time preference factor no precaut | B12: 1 | C12: =B12/(1+$B$10)^5 -> 0.87809521 | D12: =C12/(1+$B$10)^5 -> 0.7710512 | E12: =D12/(1+$B$10)^5 -> 0.67705636 | F12: =E12/(1+$B$10)^5 -> 0.59451995 | G12: =F12/(1+$B$10)^5 -> 0.52204512 | H12: =G12/(1+$B$10)^5 -> 0.45840532 | I12: =H12/(1+$B$10)^5 -> 0.40252352 | J12: =I12/(1+$B$10)^5 -> 0.35345397 | ... CD12: =CC12/(1+$B$10)^5 -> 3.0431872e-05
A13: RR Social time preference factor WITH precaut | B13: 1 | C13: =+C12*(1+C159)^-(5*(C1-1)) -> 0.87908648 | D13: =+D12*(1+D159)^-(5*(D1-1)) -> 0.77453922 | E13: =+E12*(1+E159)^-(5*(E1-1)) -> 0.68396797 | F13: =+F12*(1+F159)^-(5*(F1-1)) -> 0.6053534 | G13: =+G12*(1+G159)^-(5*(G1-1)) -> 0.53698656 | H13: =+H12*(1+H159)^-(5*(H1-1)) -> 0.47741865 | I13: =+I12*(1+I159)^-(5*(I1-1)) -> 0.42541933 | J13: =+J12*(1+J159)^-(5*(J1-1)) -> 0.37994196 | ... CD13: =+CD12*(1+CD159)^-(5*(CD1-1)) -> 0.0021643845
A14: PRODUCTIVITY
A15: Total factor productivity | B15: =+B16 -> 5.84 | C15: =+B15/(1-B17) -> 6.2526767 | D15: =+C15/(1-C17) -> 6.6909818 | E15: =+D15/(1-D17) -> 7.1562634 | F15: =+E15/(1-E17) -> 7.6499251 | G15: =+F15/(1-F17) -> 8.1734284 | H15: =+G15/(1-G17) -> 8.7282932 | I15: =+H15/(1-H17) -> 9.3161003 | J15: =+I15/(1-I17) -> 9.9384923 | ... CD15: =+CC15/(1-CC17) -> 349.34982
A16: Initial level of TFP | B16: =+Parameters!$B$26 -> 5.84
A17: Rate of growth of TFP (/period, ln) | B17: =+Parameters!$B$27 -> 0.066 | C17: =+B17*EXP(-5*Parameters!$B$28) -> 0.065506852 | D17: =+C17*EXP(-5*Parameters!$B$28) -> 0.065017388 | E17: =+D17*EXP(-5*Parameters!$B$28) -> 0.064531582 | F17: =+E17*EXP(-5*Parameters!$B$28) -> 0.064049405 | G17: =+F17*EXP(-5*Parameters!$B$28) -> 0.063570832 | H17: =+G17*EXP(-5*Parameters!$B$28) -> 0.063095834 | I17: =+H17*EXP(-5*Parameters!$B$28) -> 0.062624385 | J17: =+I17*EXP(-5*Parameters!$B$28) -> 0.062156459 | ... CD17: =+CC17*EXP(-5*Parameters!$B$28) -> 0.036221568
A18: DAMAGE FUNCTION
A19: Linear damage coeff | B19: 0
A20: Quadratic damage coeff | B20: =+Parameters!B8 -> 0.003467
A21: Damage exponent | B21: =+Parameters!B9 -> 2
A22: ABATEMENT COST
A23: Abatement coefficient | B23: =+B147 -> 0.10906173 | C23: =+C147 -> 0.095430263 | D23: =+D147 -> 0.083747326 | E23: =+E147 -> 0.073701141 | F23: =+F147 -> 0.065034726 | G23: =+G147 -> 0.057535467 | H23: =+H147 -> 0.051026818 | I23: =+I147 -> 0.047449565 | ... CD23: =+CD147 -> 0.0036649978
A24: Backstop price, 2050 (2019$/tCO2) | B24: 515
A25: Backstop price (2019$ per ton CO2) | B25: =+C25*EXP(5*(0.01)) -> 695.17729 | C25: =+D25*EXP(5*(0.01)) -> 661.27309 | D25: =+E25*EXP(5*(0.01)) -> 629.02242 | E25: =+F25*EXP(5*(0.01)) -> 598.34464 | F25: =+G25*EXP(5*(0.01)) -> 569.16302 | G25: =+H25*EXP(5*(0.01)) -> 541.40461 | H25: =+B24 -> 515 | I25: =+H25*EXP(-5*(0.001)) -> 512.43143 | J25: =+I25*EXP(-5*(0.001)) -> 509.87566 | K25: =+J25*EXP(-5*(0.001)) -> 507.33265 | L25: =+K25*EXP(-5*(0.001)) -> 504.80232 | M25: =+L25*EXP(-5*(0.001)) -> 502.2846 | N25: =+M25*EXP(-5*(0.001)) -> 499.77945 | O25: =+N25*EXP(-5*(0.001)) -> 497.28679 | P25: =+O25*EXP(-5*(0.001)) -> 494.80656 | ... CD25: =+CC25*EXP(-5*(0.001)) -> 355.72818
A26: Upper limit of control rate | B26: 0.05 | C26: 0.1 | D26: 0.24 | E26: 0.36 | F26: 0.48 | G26: 0.6 | H26: 0.72 | I26: 0.84 | J26: 0.9 | K26: 0.95 | L26: 1 | M26: 1 | N26: 1 | O26: 1 | P26: 1 | Q26: 1 | R26: 1 | S26: 1 | T26: 1 | U26: 1 | V26: 1.1 | W26: 1.1 | X26: 1.1 | Y26: 1.1 | Z26: 1.1 | AA26: 1.1 | AB26: 1.1 | AC26: 1.1 | AD26: 1.1 | AE26: 1.1 | AF26: 1.1 | AG26: 1.1 | AH26: 1.1 | AI26: 1.1 | AJ26: 1.1 | AK26: 1.1 | AL26: 1.1 | AM26: 1.05 | AN26: 1.05 | AO26: 1.05 | AP26: 1.05 | AQ26: 1.05 | AR26: 1.05 | AS26: 1.05 | AT26: 1.05 | AU26: 1.05 | AV26: 1.05 | AW26: 1.05 | AX26: 1.05 | AY26: 1.05 | AZ26: 1.05 | BA26: 1.05 | BB26: 1.05 | BC26: 1.05 | BD26: 1.05 | BE26: 1.05 | BF26: 1.05 | BG26: 1 | BH26: 1 | BI26: 1 | BJ26: 1 | BK26: 1 | BL26: 1 | BM26: 1 | BN26: 1 | BO26: 1 | BP26: 1 | BQ26: 1 | BR26: 1 | BS26: 1 | BT26: 1 | BU26: 1 | BV26: 1 | BW26: 1 | BX26: 1 | BY26: 1 | BZ26: 1 | CA26: 1 | CB26: 1 | CC26: 1 | CD26: 1
A27: Exponent of control cost function | B27: =+Parameters!B11 -> 2.6
A28: EMISSIONS
A29: Sigma (industrial, MTCO2/$1000 2019 US$) | B29: =+B30 -> 0.29135477 | C29: =+B29*EXP(5*B31) -> 0.27030249 | D29: =+C29*EXP(5*C31) -> 0.25152482 | E29: =+D29*EXP(5*D31) -> 0.23472665 | F29: =+E29*EXP(5*E31) -> 0.21965683 | G29: =+F29*EXP(5*F31) -> 0.20610082 | H29: =+G29*EXP(5*G31) -> 0.19387479 | I29: =+H29*EXP(5*H31) -> 0.18282066 | J29: =+I29*EXP(I31*(J2-I2)) -> 0.17280212 | K29: =+J29*EXP(J31*(K2-J2)) -> 0.16370121 | L29: =+K29*EXP(K31*(L2-K2)) -> 0.15541561 | M29: =+L29*EXP(L31*(M2-L2)) -> 0.14785623 | N29: =+M29*EXP(M31*(N2-M2)) -> 0.14094538 | O29: =+N29*EXP(N31*(O2-N2)) -> 0.13461505 | P29: =+O29*EXP(O31*(P2-O2)) -> 0.12880558 | Q29: =+P29*EXP(P31*(Q2-P2)) -> 0.12346449 | ... CD29: =+CC29*EXP(CC31*(CD2-CC2)) -> 0.022138257
A30: Sigma, 2020 | B30: =+Parameters!D32 -> 0.29135477
A31: Growth rate of sigma (/yr, log) | B31: =+Parameters!B13 -> -0.015 | C31: =+B31*Parameters!$B$35 -> -0.0144 | D31: =+C31*Parameters!$B$35 -> -0.013824 | E31: =+D31*Parameters!$B$35 -> -0.01327104 | F31: =+MIN(-0.005,E31*Parameters!$B$35) -> -0.012740198 | G31: =+MIN(-0.005,F31*Parameters!$B$35) -> -0.01223059 | H31: =+MIN(-0.005,G31*Parameters!$B$35) -> -0.011741367 | I31: =+MIN(-0.005,H31*Parameters!$B$35) -> -0.011271712 | J31: =+MIN(-0.005,I31*Parameters!$B$35) -> -0.010820844 | K31: =+MIN(-0.005,J31*Parameters!$B$35) -> -0.01038801 | L31: =+MIN(-0.005,K31*Parameters!$B$35) -> -0.0099724895 | M31: =+MIN(-0.005,L31*Parameters!$B$35) -> -0.00957359 | ... CD31: =+MIN(-0.005,CC31*Parameters!$B$35) -> -0.005
A32: Land use (GTCO2 per year) | B32: =+B143 -> 5.9 | C32: =+C143 -> 5.31 | D32: =+D143 -> 4.779 | E32: =+E143 -> 4.3011 | F32: =+F143 -> 3.87099 | G32: =+G143 -> 3.483891 | H32: =+H143 -> 3.1355019 | I32: =+I143 -> 2.8219517 | ... CD32: =+CD143 -> 0.0012889996
A33: Scaling parameters (to ensure Obj Function = PDV Cons and MU(C) = 1)
A34: Multiplicative scaling coefficient in utility function | B34: 0.00891061
A35: Additive scaling coefficient in utility function | B35: -6275.91
A36: Hotelling on (1) or off(0) | B36: 0
A37: POPULATION
A38: Population (millions) | B38: =+Parameters!B21 -> 7752.9 | C38: =+B38*(Parameters!$B$23/B38)^Parameters!$B$22 -> 8137.3674 | D38: =+C38*(Parameters!$B$23/C38)^Parameters!$B$22 -> 8481.1706 | E38: =+D38*(Parameters!$B$23/D38)^Parameters!$B$22 -> 8786.6182 | F38: =+E38*(Parameters!$B$23/E38)^Parameters!$B$22 -> 9056.4845 | G38: =+F38*(Parameters!$B$23/F38)^Parameters!$B$22 -> 9293.7833 | H38: =+G38*(Parameters!$B$23/G38)^Parameters!$B$22 -> 9501.5984 | I38: =+H38*(Parameters!$B$23/H38)^Parameters!$B$22 -> 9682.9614 | J38: =+I38*(Parameters!$B$23/I38)^Parameters!$B$22 -> 9840.7695 | ... CD38: =+CC38*(Parameters!$B$23/CC38)^Parameters!$B$22 -> 10824.987
A39: Rate of pop growth (/ period) | C39: =+C38/B38-1 -> 0.049590134 | D39: =+D38/C38-1 -> 0.042249937 | E39: =+E38/D38-1 -> 0.03601479 | F39: =+F38/E38-1 -> 0.030713328 | G39: =+G38/F38-1 -> 0.026202096 | H39: =+H38/G38-1 -> 0.022360654 | I39: =+I38/H38-1 -> 0.019087627 | J39: =+J38/I38-1 -> 0.0162975 | ... CD39: =+CD38/CC38-1 -> 2.0425191e-07
A40: GLOBAL PARAMETERS (see * at line 102 below)
...

Sheet Opt
A1: =+D66 -> 0.29214209 | B1: 1 | C1: 2 | D1: 3 | E1: 4 | F1: 5 | G1: 6 | H1: 7 | I1: 8 | J1: 9 | K1: 10 | L1: 11 | M1: 12 | N1: 13 | O1: 14 | P1: 15 | Q1: 16 | R1: 17 | S1: 18 | T1: 19 | U1: 20 | V1: 21 | W1: 22 | X1: 23 | Y1: 24 | Z1: 25 | AA1: 26 | AB1: 27 | AC1: 28 | AD1: 29 | AE1: 30 | AF1: 31 | AG1: 32 | AH1: 33 | AI1: 34 | AJ1: 35 | AK1: 36 | AL1: 37 | AM1: 38 | AN1: 39 | AO1: =+AN1+1 -> 40 | AP1: =+AO1+1 -> 41 | AQ1: =+AP1+1 -> 42 | AR1: =+AQ1+1 -> 43 | AS1: =+AR1+1 -> 44 | AT1: =+AS1+1 -> 45 | AU1: =+AT1+1 -> 46 | AV1: =+AU1+1 -> 47 | ... CD1: =+CC1+1 -> 81
A2: Year | B2: 2020 | C2: =+B2+Parameters!$B$14 -> 2025 | D2: =+C2+Parameters!$B$14 -> 2030 | E2: =+D2+Parameters!$B$14 -> 2035 | F2: =+E2+Parameters!$B$14 -> 2040 | G2: =+F2+Parameters!$B$14 -> 2045 | H2: =+G2+Parameters!$B$14 -> 2050 | I2: =+H2+Parameters!$B$14 -> 2055 | J2: =+I2+Parameters!$B$14 -> 2060 | ... CD2: =+CC2+Parameters!$B$14 -> 2420
A3: ECONOMIC MODULE
A4: ECONOMIC PARAMETERS | C4: parameters
A5: Capital share | B5: =+Parameters!B16 -> 0.3 | C5: FAIR
A6: Depreciation | B6: =+Parameters!B17 -> 0.1 | C6: formula base
A7: Initial output (2019 US International $, trillions) | B7: =+Parameters!B19 -> 135.7 | C7: Here
A8: Initial K | B8: =+Parameters!B25 -> 295 | C8: GAMS
A9: WELFARE | C9: Optimized
A10: Time preference plus risk (per year) | B10: =+Parameters!$B$5 -> 0.026341
A11: Elasticity of MU of consumption | B11: =+Parameters!B6 -> 0.95
A12: RR1 Social time preference factor no precaut | B12: 1 | C12: =B12/(1+$B$10)^5 -> 0.87809521 | D12: =C12/(1+$B$10)^5 -> 0.7710512 | E12: =D12/(1+$B$10)^5 -> 0.67705636 | F12: =E12/(1+$B$10)^5 -> 0.59451995 | G12: =F12/(1+$B$10)^5 -> 0.52204512 | H12: =G12/(1+$B$10)^5 -> 0.45840532 | I12: =H12/(1+$B$10)^5 -> 0.40252352 | J12: =I12/(1+$B$10)^5 -> 0.35345397 | ... CD12: =CC12/(1+$B$10)^5 -> 3.0431872e-05
A13: RR Social time preference factor WITH precaut | B13: 1 | C13: =+C12*(1+C159)^-(5*(C1-1)) -> 0.87908648 | D13: =+D12*(1+D159)^-(5*(D1-1)) -> 0.77453922 | E13: =+E12*(1+E159)^-(5*(E1-1)) -> 0.68396797 | F13: =+F12*(1+F159)^-(5*(F1-1)) -> 0.6053534 | G13: =+G12*(1+G159)^-(5*(G1-1)) -> 0.53698656 | H13: =+H12*(1+H159)^-(5*(H1-1)) -> 0.47741865 | I13: =+I12*(1+I159)^-(5*(I1-1)) -> 0.42541933 | J13: =+J12*(1+J159)^-(5*(J1-1)) -> 0.37994196 | ... R13: =+R12*(1+R159)^-(5*(R1-1)) -> 0.16684643 | S13: =R12/((1+$B$10)^5*(1+S159)^(R1*5)) -> 0.15207989 | T13: =S12/((1+$B$10)^5*(1+T159)^(S1*5)) -> 0.13893518 | U13: =T12/((1+$B$10)^5*(1+U159)^(T1*5)) -> 0.12721506 | V13: =U12/((1+$B$10)^5*(1+V159)^(U1*5)) -> 0.11674843 | W13: =V12/((1+$B$10)^5*(1+W159)^(V1*5)) -> 0.10738661 | X13: =W12/((1+$B$10)^5*(1+X159)^(W1*5)) -> 0.099000202 | Y13: =X12/((1+$B$10)^5*(1+Y159)^(X1*5)) -> 0.091476441 | Z13: =Y12/((1+$B$10)^5*(1+Z159)^(Y1*5)) -> 0.084716888 | ... CD13: =CC12/((1+$B$10)^5*(1+CD159)^(CC1*5)) -> 0.0021643845
A14: PRODUCTIVITY
A15: Total factor productivity | B15: =+B16 -> 5.84 | C15: =+B15/(1-B17) -> 6.2526767 | D15: =+C15/(1-C17) -> 6.6909818 | E15: =+D15/(1-D17) -> 7.1562634 | F15: =+E15/(1-E17) -> 7.6499251 | G15: =+F15/(1-F17) -> 8.1734284 | H15: =+G15/(1-G17) -> 8.7282932 | I15: =+H15/(1-H17) -> 9.3161003 | J15: =+I15/(1-I17) -> 9.9384923 | ... CD15: =+CC15/(1-CC17) -> 349.34982
A16: Initial level of TFP | B16: =+Parameters!$B$26 -> 5.84
A17: Rate of growth of TFP (/period, ln) | B17: =+Parameters!$B$27 -> 0.066 | C17: =+B17*EXP(-5*Parameters!$B$28) -> 0.065506852 | D17: =+C17*EXP(-5*Parameters!$B$28) -> 0.065017388 | E17: =+D17*EXP(-5*Parameters!$B$28) -> 0.064531582 | F17: =+E17*EXP(-5*Parameters!$B$28) -> 0.064049405 | G17: =+F17*EXP(-5*Parameters!$B$28) -> 0.063570832 | H17: =+G17*EXP(-5*Parameters!$B$28) -> 0.063095834 | I17: =+H17*EXP(-5*Parameters!$B$28) -> 0.062624385 | J17: =+I17*EXP(-5*Parameters!$B$28) -> 0.062156459 | ... CD17: =+CC17*EXP(-5*Parameters!$B$28) -> 0.036221568
A18: DAMAGE FUNCTION
A19: Linear damage coeff | B19: 0
